BEGIN:VCALENDAR
VERSION:2.0
CALSCALE:GREGORIAN
METHOD:PUBLISH
PRODID://CAIS//486234
BEGIN:VEVENT
DTSTAMP:20260419T231116
VTIMEZONE:America/Chicago
DTSTART:20260918T140000Z
DTEND:20260918T210000Z
UID:486234
SUMMARY:Exhibitor & Sponsor: 2026 South Texas Community Associations Exposition (Formerly CA Day)
LOCATION:Grand Hyatt Riverwalk, 600 E Market St, San Antonio, TX, 78205
DESCRIPTION:Exhibitor & Sponsor: 2026 South Texas Community Associations Exposition (Formerly CA Day)\n\n09/18/26 09:00 AM CST\n - 09/18/26 04:00 PM CST\Description:\n2026 SOUTH TEXAS COMMUNITY ASSOCIATIONS EXPO \n\nSAVE THE DATE! MORE INFO TO COME...\n\n\n \n\nTHE SOUTH TEXAS COMMUNITY ASSOCIATIONS EXPO IS A ONE-DAY BUSINESS-FOCUSED EXPERIENCE FOR COMMUNITY ASSOCIATION PROFESSIONALS, VOLUNTEERS, AND THEIR KEY PARTNERS. THIS EVENT IS THE PLACE WHERE RELATIONSHIPS ARE CREATED AND IDEAS ARE BORN INTO ACTION!\n\nSCHEDULE — September 18, 2026\nThis event begins with a continental breakfast and educational presentations in the morning, followed by lunch and exhibits in the afternoon. Be sure to stick around for our after-party! \nWHY ATTEND\nBecause face-to-face interaction with product and service representatives is an invaluable aspect of attending the 2025 South Texas Community Associations Exposition, conflict-free exhibit hours enable you to consult one-on-one with representatives of companies from across the country. Meet the leading vendors of the products and services you use every day and explore new offerings to meet specific needs within your communities.\n \nWHO ATTENDS\nThis event is open to all community association management professionals, homeowners living in community associations (condominium, homeowners association, housing cooperative), and business partners serving these communities (fees apply).\nLocation\nGrand Hyatt Riverwalk, 600 E Market St, San Antonio, TX 78205\n\Location:\nGrand Hyatt Riverwalk\n600 E Market St\nSan Antonio, TX 78205
X-ALT-DESC;FMTTYPE=text/html:Exhibitor & Sponsor: 2026 South Texas Community Associations Exposition (Formerly CA Day)<br /><br />09/18/26 09:00 AM CST - 09/18/26 04:00 PM CST<br />Description:<br /><h1><strong>2026&nbsp;SOUTH TEXAS COMMUNITY ASSOCIATIONS EXPO&nbsp;</strong></h1>

<h2>SAVE THE DATE! MORE INFO TO COME...</h2>

<div><br />
&nbsp;</div>

<p><em><span style="font-size:16px">THE SOUTH TEXAS COMMUNITY ASSOCIATIONS EXPO IS A ONE-DAY BUSINESS-FOCUSED EXPERIENCE FOR COMMUNITY ASSOCIATION PROFESSIONALS, VOLUNTEERS, AND THEIR KEY PARTNERS. THIS EVENT&nbsp;IS THE PLACE WHERE RELATIONSHIPS ARE CREATED AND IDEAS ARE BORN INTO ACTION!</span></em></p>

<hr /><strong>SCHEDULE &mdash; September 18, 2026</strong><br />
This event begins with a continental breakfast and educational presentations in the morning, followed by lunch and exhibits in the afternoon. Be sure to stick around for our after-party!&nbsp;
<hr /><strong>WHY ATTEND</strong><br />
Because face-to-face interaction with product and service representatives is an invaluable aspect of attending the 2025 South Texas Community Associations Exposition, conflict-free exhibit hours enable you to consult one-on-one with representatives of companies from across the country. Meet the leading vendors of the products and services you use every day and explore new offerings to meet specific needs within your communities.<br />
&nbsp;<br />
<strong>WHO ATTENDS</strong><br />
This event is open to all community association management professionals, homeowners living in community associations (condominium, homeowners association, housing cooperative), and business partners serving these communities (fees apply).
<hr /><strong>Location</strong><br />
Grand Hyatt Riverwalk, 600 E Market St, San Antonio, TX 78205
<hr /><br />Location:<br />Grand Hyatt Riverwalk<br />600 E Market St<br />San Antonio, TX 78205
PRIORITY:3
TRANSP:TRANSPARENT
BEGIN:VALARM
TRIGGER:-PT5M
ACTION:DISPLAY
DESCRIPTION:Reminder
END:VALARM
END:VEVENT
END:VCALENDAR
